Workbook

Sheet 様式第14号
A1: 様式第14号（業務細則第14条）
H2: 徳私退発第 号
H3: 年 月 日
A5: 学校法人 学園
A6: 理 事 長 様
H8: 公益社団法人 徳島県私立学校退職金社団
H9: 理 事 長 岡 本 和 貴
A11: 退 職 金 資 金 交 付 決 定 通 知 書
A13: さきに申請のありました退職金資金については、下記のとおり決定交付することにしたので通知します。
A14: ご査収のうえは、当該教職員の退職金領収書の写しを添えて、別添「退職金資金領収書」を返送してください。
A15: なお、みなし退職の場合は、当該教職員の領収書に代えて、別添「確認書」を返送してください。
A17: 交付方法 ：口座振込（ 振込先 普通預金口座 ）
A18: 退職者氏名 | B18: 退職年月日 | C18: 登録年月日 | D18: 除算期間 | E18: 登録期間 | F18: 最終平均 給与月額 | G18: 交付率 | H18: 交付決定額 | I18: 備考
F19: (円) | H19: (円）
H20: =F20*G20 -> 0
H21: =F21*G21 -> 0
H22: =F22*G22 -> 0
H23: =F23*G23 -> 0
H24: =F24*G24 -> 0
H25: =F25*G25 -> 0
H26: =F26*G26 -> 0
H27: =F27*G27 -> 0
A28: 合 計 | H28: =SUM(H20:H27) -> 0
A29: (注)備考欄の○印はみなし退職者を示しています。

Sheet 領収書
A1: 退 職 金 資 金 領 収 書
A3: 公益社団法人 徳島県私立学校退職金社団
A4: 理 事 長 岡 本 和 貴 様
B6: =C20 -> 0
A8: ただし、退職金資金として
A10: 内 訳
B11: 氏 名 | C11: 金 額 (円)
B12: =様式第14号!A20 -> 0 | C12: =様式第14号!H20 -> 0
B13: =様式第14号!A21 -> 0 | C13: =様式第14号!H21 -> 0
B14: =様式第14号!A22 -> 0 | C14: =様式第14号!H22 -> 0
B15: =様式第14号!A23 -> 0 | C15: =様式第14号!H23 -> 0
B16: =様式第14号!A24 -> 0 | C16: =様式第14号!H24 -> 0
B17: =様式第14号!A25 -> 0 | C17: =様式第14号!H25 -> 0
B18: =様式第14号!A26 -> 0 | C18: =様式第14号!H26 -> 0
B19: =様式第14号!A27 -> 0 | C19: =様式第14号!H27 -> 0
B20: 合 計 | C20: =SUM(C12:C19) -> 0
A22: 上記の金額を領収しました。
B23: 年 月 日
B24: 所 在 地
B25: 法 人 名
B26: 代表者氏名

Sheet 確認書
A1: 確認書
I7: 年 月 日
A12: この度、私は、（公社）徳島県私立学校退職金社団業務方法書第１５条の規定によるみなし退職者に該当することになりましたが、このことに係る退職金資金が私の属する法人に既に交付されている事を確認いたしました。 なお、退職金は、退職時に受領することを了承しました。
A16: 金 額 金 円 | B16: 金 額 | H16: 円
A19: 所属法人名 | B19: 氏 名
