Workbook

Sheet 退職届
A1: 様式第１１号（業務細則第12条）
A2: 年 月 日
A4: 公益社団法人 徳島県私立学校退職金社団
A5: 理 事 長 岡 本 和 貴 殿
E7: 法 人 名 | G7: 学校法人 ○ ○ 学 園
E9: 代表者職氏名 | G9: 理事長 ○ ○ ○ ○
A12: 教 職 員 退 職 届
A14: 次のとおり届けます。
A15: 教職員 番 号 | B15: 退 職 者 氏 名 | D15: 退 職 年 月 日 | F15: 退職事由 | H15: 備 考
A26: ※教職員番号の記載は不要です。
A27: ※退職者氏名等は入力後、退職金資金交付申請書に自動で反映します。

Sheet 退職金資金交付申請書
A1: 様式第12号（業務細則第12条）
F2: 年 月 日
A4: 公益社団法人 徳島県私立学校退職金社団 | E4: 学校法人 | F4: ○ ○ 学 園
B5: 理 事 長 岡 本 和 貴 殿 | E5: 理 事 長 | F5: ○ ○ ○ ○
A7: 退 職 金 資 金 交 付 申 請 書
A9: 次のとおり申請します。
A10: 教職員 番 号 | B10: 退 職 者 氏 名 | C10: 退職年月日 | D10: 退 職 事 由 | E10: 退職金受領者 氏 名 | F10: 退 職 者との 続 柄 | G10: 備 考
B12: =退職届!B16 -> 0 | C12: =退職届!D16 -> 0 | D12: =退職届!F16 -> 0
B13: =退職届!B17 -> 0 | C13: =退職届!D17 -> 0 | D13: =退職届!F17 -> 0
B14: =退職届!B18 -> 0 | C14: =退職届!D18 -> 0 | D14: =退職届!F18 -> 0
B15: =退職届!B19 -> 0 | C15: =退職届!D19 -> 0 | D15: =退職届!F19 -> 0
B16: =退職届!B20 -> 0 | C16: =退職届!D20 -> 0 | D16: =退職届!F20 -> 0
B17: =退職届!B21 -> 0 | C17: =退職届!D21 -> 0 | D17: =退職届!F21 -> 0
B18: =退職届!B22 -> 0 | C18: =退職届!D22 -> 0 | D18: =退職届!F22 -> 0
B19: =退職届!B23 -> 0 | C19: =退職届!D23 -> 0 | D19: =退職届!F23 -> 0
A20: 9
A21: 10
A22: ※教職員番号欄は記載不要です。
B24: 退職金資金 振 込 先 | C24: 金融機関名 | D24: 本・支店名 | E24: 口座種類 | F24: 口座番号
C25: ○○○○銀行 | D25: ○○○○支店 | E25: 当座 | F25: ＊＊＊＊＊＊
